BEGIN:VCALENDAR
VERSION:2.0
PRODID:-//wp-events-plugin.com//7.1.7//EN
BEGIN:VEVENT
UID:26@acher.com.ar
DTSTART:20260917T000000Z
DTEND:20260919T000000Z
DTSTAMP:20260304T231238Z
URL:https://acher.com.ar/events/congreso-argentino-de-gastroenterologia-y-
 endoscopia-digestiva-gastro-endo-2026/
SUMMARY:Congreso Argentino de Gastroenterología y Endoscopía Digestiva - 
 GASTRO ENDO 2026
DESCRIPTION:Principal encuentro científico de la especialidad en el país\
 , organizado en conjunto por la Sociedad Argentina de Gastroenterología (
 SAGE) y la Federación Argentina de Asociaciones de Endoscopía Digestiva 
 (FAAED). El evento reúne a expertos nacionales e internacionales para abo
 rdar los últimos avances en diagnóstico\, tratamiento y tecnología apli
 cados a la salud digestiva.\n\nContacto:\n\nMail: sagesecretaria@gmail.com
 \n\n 	Web: www.sage.org.ar\n 	Celular / WhatsApp: +54 11 3700-6169\n\n&nbs
 p\;
ATTACH;FMTTYPE=image/jpeg:https://acher.com.ar/wp-content/uploads/2026/03/
 8_GASTRO-ENDO-2026.jpg
CATEGORIES:Gastro endoscopía
LOCATION:Sheraton Buenos Aires\, CABA\, Buenos Aires\, Argentina
X-APPLE-STRUCTURED-LOCATION;VALUE=URI;X-ADDRESS=CABA\, Buenos Aires\, Argen
 tina;X-APPLE-RADIUS=100;X-TITLE=Sheraton Buenos Aires:geo:0,0
END:VEVENT
END:VCALENDAR