BEGIN:VCALENDAR
VERSION:2.0
PRODID:-//wp-events-plugin.com//7.1.7//EN
BEGIN:VEVENT
UID:23@acher.com.ar
DTSTART:20260611T000000Z
DTEND:20260612T000000Z
DTSTAMP:20260304T230349Z
URL:https://acher.com.ar/events/curso-internacional-del-club-de-la-uretra-
 2026/
SUMMARY:Curso Internacional del “Club de la Uretra” 2026
DESCRIPTION:Este curso internacional de alta especialización se enfoca en 
 la urología reconstructiva y el uso de prótesis\, contando con la partic
 ipación central del Dr. Pablo Contreras\, referente del Hospital Alemán 
 en estas técnicas. El evento reúne a los equipos de reconstrucción más
  destacados del país para discutir avances en cirugía uretral compleja\,
  brindando un espacio de formación técnica y académica de vanguardia pa
 ra especialistas en el área.\n\nCiudad Autónoma de Buenos Aires (Sedes h
 abituales: Hospital Alemán / Hospital de Clínicas).
ATTACH;FMTTYPE=image/jpeg:https://acher.com.ar/wp-content/uploads/2026/03/
 5_Uro_Aleman.jpg
CATEGORIES:Urología
LOCATION:Hospital Alemán\, CABA\, Buenos Aires\, Argentina
X-APPLE-STRUCTURED-LOCATION;VALUE=URI;X-ADDRESS=CABA\, Buenos Aires\, Argen
 tina;X-APPLE-RADIUS=100;X-TITLE=Hospital Alemán:geo:0,0
END:VEVENT
END:VCALENDAR