BEGIN:VCALENDAR
VERSION:2.0
PRODID:-//wp-events-plugin.com//7.1.7//EN
BEGIN:VEVENT
UID:6@acher.com.ar
DTSTART:20251112T000000Z
DTEND:20251114T000000Z
DTSTAMP:20250903T002312Z
URL:https://acher.com.ar/events/urovivo-curso-de-cirugias-en-vivo/
SUMMARY:UROVIVO - Curso de cirugías en vivo
DESCRIPTION:Reconocimentos destacados: Fellow del Royal College of Physicia
 ns and Surgeons (Glasgow)\nInformes: @AcherArgentina
ATTACH;FMTTYPE=image/jpeg:https://acher.com.ar/wp-content/uploads/2025/09/
 URO_urovivo-08.jpg
CATEGORIES:Urología
END:VEVENT
END:VCALENDAR