BEGIN:VCALENDAR
VERSION:2.0
PRODID:-//wp-events-plugin.com//7.1.7//EN
BEGIN:VEVENT
UID:22@acher.com.ar
DTSTART:20260521T000000Z
DTEND:20260522T000000Z
DTSTAMP:20260304T225928Z
URL:https://acher.com.ar/events/xvii-curso-internacional-de-otono-aga-sage
 /
SUMMARY:XVII CURSO INTERNACIONAL de OTOÑO AGA-SAGE
DESCRIPTION:Este prestigioso curso internacional es organizado conjuntament
 e por la American Gastroenterological Association (AGA) y la Sociedad Arge
 ntina de Gastroenterología (SAGE). El evento está dirigido por la Dra. S
 ilvina Goncalves y cuenta con la secretaría de la Dra. Patricia González
 . Es un encuentro académico de alto nivel que busca actualizar los conoci
 mientos en patologías digestivas\, contando con la participación de dest
 acados expertos globales como el Dr. Michael Smith (USA) y el Dr. Sergio R
 ubel Cohen (Chile). Durante las jornadas se abordarán las últimas guías
  de práctica clínica\, avances en neurogastroenterología\, motilidad y 
 nuevas fronteras terapéuticas en la especialidad.\n\nContacto: * Mail: sa
 gesecretaria@gmail.com\n\n 	Web: www.sage.org.ar\n 	Celular / WhatsApp: +5
 4 11 3700-6169\n
ATTACH;FMTTYPE=image/jpeg:https://acher.com.ar/wp-content/uploads/2026/03/
 4_XVII-CURSO-INTERNACIONAL-de-OTONO.png
CATEGORIES:Gastro endoscopía
LOCATION:Sheraton Buenos Aires\, CABA\, Buenos Aires\, Argentina
X-APPLE-STRUCTURED-LOCATION;VALUE=URI;X-ADDRESS=CABA\, Buenos Aires\, Argen
 tina;X-APPLE-RADIUS=100;X-TITLE=Sheraton Buenos Aires:geo:0,0
END:VEVENT
END:VCALENDAR